BEGIN:VCALENDAR
VERSION:2.0
PRODID:GIGPRESS 2.0 WORDPRESS PLUGIN
CALSCALE:GREGORIAN
X-WR-TIMEZONE:Etc/GMT
METHOD:PUBLISH
BEGIN:VTIMEZONE
TZID:GMT
BEGIN:STANDARD
DTSTART:20071028T010000
TZOFFSETTO:+0000
TZOFFSETFROM:+0000
END:STANDARD
END:VTIMEZONE
BEGIN:VEVENT
SUMMARY:Free America! Early Songs of Resistance and Rebellion (1790-1860) at Tanglewood Music Center
DESCRIPTION:: Touring. Notes: This performance is not included as part of the Camerata's 2026/2027 season subscriptions. 
LOCATION:Tanglewood Music Center\, 297 West Street\, Lenox\, US
UID:20260717T000000Z-209-webmaster@bostoncamerata.org
URL:https://bostoncamerata.org/2021site/performances
DTSTART;VALUE=DATE-TIME;TZID=GMT:20260717T000000Z
DTEND;VALUE=DATE-TIME;TZID=GMT:20260717T000000Z
DTSTAMP:20260423T025645Z
END:VEVENT
END:VCALENDAR